BEGIN:VCALENDAR
VERSION:2.0
PRODID:-//Handpanundmeer - ECPv6.15.11//NONSGML v1.0//EN
CALSCALE:GREGORIAN
METHOD:PUBLISH
X-WR-CALNAME:Handpanundmeer
X-ORIGINAL-URL:https://handpanundmeer.de
X-WR-CALDESC:Veranstaltungen für Handpanundmeer
REFRESH-INTERVAL;VALUE=DURATION:PT1H
X-Robots-Tag:noindex
X-PUBLISHED-TTL:PT1H
BEGIN:VTIMEZONE
TZID:UTC
BEGIN:STANDARD
TZOFFSETFROM:+0000
TZOFFSETTO:+0000
TZNAME:UTC
DTSTART:20250101T000000
END:STANDARD
END:VTIMEZONE
BEGIN:VEVENT
DTSTART;TZID=UTC:20261024T133000
DTEND;TZID=UTC:20261024T160000
DTSTAMP:20260425T153148
CREATED:20260203T203459Z
LAST-MODIFIED:20260203T203934Z
UID:1180-1792848600-1792857600@handpanundmeer.de
SUMMARY:Handpanworkshop für Einsteiger in Butzbach in der Wendelinskapelle
DESCRIPTION:Am Samstag den 24. Oktober von 13:30-16:00 Uhr biete ich einen Handpanworkshop für Einsteiger in der Wendelinskapelle in Butzbach an. Kooperationspartner ist die Musikschule Butzbach für die ich als Lehrkraft seit vielen Jahren unterrichte. Die Wendelinskapelle ist Hessens älteste Fachwerkkapelle und bietet ein wunderschönes Ambiente für den Workshop. Die faszinierende Vielfalt der Handpans wird den Teilnehmern vermittelt: spieltechnische Grundlagen\, die ersten Schritte auf der Handpan\, viel Wissenswertes und Hintergründe sind Aspekte des Workshops. Anmeldung hier über das Kontaktformular oder per E-Mail an percussionreich@aol.com   Kosten: 65\,-€  Adresse: Weiseler Str. 45 in 35510 Butzbach 
URL:https://handpanundmeer.de/event/handpanworkshop-fuer-einsteiger-in-butzbach-in-der-wendelinskapelle
CATEGORIES:Workshop
END:VEVENT
END:VCALENDAR