BEGIN:VCALENDAR
VERSION:2.0
PRODID:-//Handpanundmeer - ECPv6.15.11//NONSGML v1.0//EN
CALSCALE:GREGORIAN
METHOD:PUBLISH
X-WR-CALNAME:Handpanundmeer
X-ORIGINAL-URL:https://handpanundmeer.de
X-WR-CALDESC:Veranstaltungen für Handpanundmeer
REFRESH-INTERVAL;VALUE=DURATION:PT1H
X-Robots-Tag:noindex
X-PUBLISHED-TTL:PT1H
BEGIN:VTIMEZONE
TZID:UTC
BEGIN:STANDARD
TZOFFSETFROM:+0000
TZOFFSETTO:+0000
TZNAME:UTC
DTSTART:20250101T000000
END:STANDARD
END:VTIMEZONE
BEGIN:VEVENT
DTSTART;TZID=UTC:20260806T110000
DTEND;TZID=UTC:20260806T140000
DTSTAMP:20260425T120923
CREATED:20260323T151544Z
LAST-MODIFIED:20260410T161214Z
UID:1221-1786014000-1786024800@handpanundmeer.de
SUMMARY:Handpanworkshop für Einsteiger::innen in Langenselbold- Sommermusik-Kurse
DESCRIPTION:Am Donnerstag den 6.August von 11:00-14:00 Uhr biete ich einen Handpanworkshop für Einsteiger::innen in Langenselbold an. Location ist das Schloss in Langenselbold. Das Ganze findet im Rahmen der Sommermusikkurse statt. Kosten: 65\,-€ ; Instrumente werden gestellt. Anmeldung und Info über über das Kontaktformular oder per Mail: percussionreich@aol.com
URL:https://handpanundmeer.de/event/handpanworkshop-fuer-einsteigerinnen-in-langenselbold-2
CATEGORIES:Workshop
END:VEVENT
BEGIN:VEVENT
DTSTART;TZID=UTC:20260806T143000
DTEND;TZID=UTC:20260806T163000
DTSTAMP:20260425T120923
CREATED:20260323T151947Z
LAST-MODIFIED:20260410T161322Z
UID:1223-1786026600-1786033800@handpanundmeer.de
SUMMARY:Handpanworkshop Aufbau in Langenselbold Sommermusikkurse
DESCRIPTION:Am Donnerstag den 14.August von 14:30-16:30 Uhr biete ich einen Handpanworkshop Aufbau in Langenselbold an. Location ist das Schloss in Langenselbold. Das Ganze findet im Rahmen der Sommermusikkurse statt. Kosten: 60\,-€ ;Der Workshop richtet sich an diejenigen die schon Vorerfahrungen haben und über spieltechnische Basics verfügen\, wir werden jede Menge Ideen für Melodien\, Harmonien und Rhythmen sowie verschiedene spieltechnische Aspekte behandeln.  Anmeldung / Info; über das Kontaktformular oder per Mail: percussionreich@aol.com
URL:https://handpanundmeer.de/event/handpanworkshop-aufbau-in-langenselbold-sommermusikkurse
CATEGORIES:Workshop
END:VEVENT
BEGIN:VEVENT
DTSTART;TZID=UTC:20260815T150000
DTEND;TZID=UTC:20260815T233000
DTSTAMP:20260425T120923
CREATED:20251019T094325Z
LAST-MODIFIED:20251019T094325Z
UID:1155-1786806000-1786836600@handpanundmeer.de
SUMMARY:Handpan & Percussion- Day in Pohlheim
DESCRIPTION:Am Samstag den 15. August ab 15:00 Uhr biete ich bei mir zuhause in Pohlheim im Garten\, Hof und Scheune einen Handpan & Percussion-Day an. Die Veranstaltung richtet sich an Schüler::innen und Leute aus deren Umfeld. Wir werden an verschiedenen Plätzen draußen und im Hof bzw. Saal verschiedene Spots haben\, in denen zusammen musiziert wird- es wird 2 Handpanspots geben und einen mehr für Percussion ( Afro-Brazil-Latin-Cajon)  Es wird darum gehen sich auszutauschen\, von einander zu lernen und miteinander einen schönen Tag zu verbringen\, es ist kein regulärer Workshop\, bietet aber denoch jede Menge Möglichkeiten zu lernen und das in einer tollen Atmosphäre mit jeder Menge netter Menschen. Getränke und Infrastruktur ( inkl. Grossteil der Instrumente) besorge ich. Essen bringt jde/r etwas mit. Es wird Abends noch Sessions geben und wir können gemütlich zusammensitzen. Achtung die Veranstaltung findet nur bei stabiler Wetterlage statt. Eine Anmeldung per Mail an  percussionreich@aol.com  ist für meine Planung notwendig. Ja man kann noch Leute mitbringen…… TN-Gebühr: 30\,-€
URL:https://handpanundmeer.de/event/handpan-percussion-day-in-pohlheim
CATEGORIES:Konzerte,Workshop
END:VEVENT
END:VCALENDAR