BEGIN:VCALENDAR
VERSION:2.0
PRODID:-//Handpanundmeer - ECPv6.15.11//NONSGML v1.0//EN
CALSCALE:GREGORIAN
METHOD:PUBLISH
X-ORIGINAL-URL:https://handpanundmeer.de
X-WR-CALDESC:Veranstaltungen für Handpanundmeer
REFRESH-INTERVAL;VALUE=DURATION:PT1H
X-Robots-Tag:noindex
X-PUBLISHED-TTL:PT1H
BEGIN:VTIMEZONE
TZID:UTC
BEGIN:STANDARD
TZOFFSETFROM:+0000
TZOFFSETTO:+0000
TZNAME:UTC
DTSTART:20250101T000000
END:STANDARD
END:VTIMEZONE
BEGIN:VEVENT
DTSTART;TZID=UTC:20260509T140000
DTEND;TZID=UTC:20260509T163000
DTSTAMP:20260423T193954
CREATED:20251104T110841Z
LAST-MODIFIED:20260223T150101Z
UID:1160-1778335200-1778344200@handpanundmeer.de
SUMMARY:Handpanworkshop für Einsteiger::innen in Neu-Isenburg
DESCRIPTION:Am Samstag den 9. Mai von 14:00 Uhr bis 16:30 Uhr biete ich einen Handpanworkshop für Einsteiger::innen an.  Location ist das Capriol-Tanzatelier in der Carl-Ulrich-Str. 177 in 63263 Neu-Isenburg. Kosten: 65\,-€ Der Workshop bietet einen schönen Einstig in die faszinierende Handpanwelt. Instrumente werden gestellt. Thematisch beschäftigen wir uns mit den ersten Spieltechniken und grundlegenden Ideen und Konzepten des Spiels der Handpan\, darüber hinaus erfahrt ihr viel Wissenswertes zum Thema und bekommt jede Menge Tipps auf was ihr z. Bsp. bei einem etwaigen Kauf einer Handpan achten könnt. Der Kurs ist auch für diejenigen geeignet\, die keine Vorerfahrungen haben\, wir werden viel Spaß haben und können in einer entspannten Atmosphäre zusammen Musik machen. Info / Anmeldung: über das Kontaktformular oder direkt per Mail an: percussionreich@aol.com
URL:https://handpanundmeer.de/event/handpanworkshop-fuer-einsteigerinnen-in-neu-isenburg-5
CATEGORIES:Workshop
END:VEVENT
BEGIN:VEVENT
DTSTART;TZID=UTC:20260509T170000
DTEND;TZID=UTC:20260509T193000
DTSTAMP:20260423T193954
CREATED:20251104T111523Z
LAST-MODIFIED:20260223T150220Z
UID:1162-1778346000-1778355000@handpanundmeer.de
SUMMARY:Handpanworkshop Aufbau in Neu-Isenburg
DESCRIPTION:Am Samstag den 9. Mai von 17:00 Uhr bis 19:30 Uhr biete ich einen Handpanworkshop Aufbau an.  Location ist das Capriol-Tanzatelier in der Carl-Ulrich-Str. 177 in 63263 Neu-Isenburg. Kosten: 65\,-€  Der Workshop richtet sich an Spieler::innen die erste Basice spielen können und Spieltechniken erweitern möchten\, es werden kleine Stücke eingeübt mit jeder Menge Anregungen für Grooves\, Melodien\, Improvisation\, Zusammenspiel\, Unabhängigkeit und Harmonien. Ihr bekommt im Nachgang alle Übungen als anschauliche Videos auf Wusch per Messenger zugesendet. Ich spiele seit vielen Jahren Handpan und gebe euch jede Menge Tipps geben wie ihr noch mehr Spaß am Klangufo haben könnt.   Info / Anmeldung: über das Kontaktformular oder direkt per Mail an: percussionreich@aol.com
URL:https://handpanundmeer.de/event/handpanworkshop-aufbau-in-neu-isenburg
CATEGORIES:Workshop
END:VEVENT
BEGIN:VEVENT
DTSTART;TZID=UTC:20260516T210000
DTEND;TZID=UTC:20260516T220000
DTSTAMP:20260423T193954
CREATED:20260103T092309Z
LAST-MODIFIED:20260221T075112Z
UID:1174-1778965200-1778968800@handpanundmeer.de
SUMMARY:Paneos bei der langen Kulturnacht in der Kongresshalle Gießen
DESCRIPTION:Paneos wird am Samstag den 16. Mai ab 21:00 Uhr im Rahmen der langen Kulturnacht im Garten in der Kongresshalle in Gießen  spielen. Der lauschige Garten lädt zu einem frühsommerlichen Konzert ein. Tickets für die lange Kultrunacht für ein Programm ab Nachmittags in der ganzen Stadt Gießen bekommt ihr ab Mitte März. Mehr Infos zu Paneos: http://www.paneos.de
URL:https://handpanundmeer.de/event/paneos-bei-der-langen-kulturnacht-in-der-kongresshalle-giessen
CATEGORIES:Konzerte
END:VEVENT
BEGIN:VEVENT
DTSTART;TZID=UTC:20260520T190000
DTEND;TZID=UTC:20260520T210000
DTSTAMP:20260423T193954
CREATED:20251019T085037Z
LAST-MODIFIED:20260309T073840Z
UID:1134-1779303600-1779310800@handpanundmeer.de
SUMMARY:Handpankurs für Einssteiger:innen in Gießen
DESCRIPTION:Einen Handpankurs für Einsteiger biete ich an 3 Terminen Mittwochs von 19:00-21:00 Uhr in Gießen an. Die Termine sind am: 20. Mai / 10. Juni / 24. Juni . Für den Kurs besteht die Möglichkeit eine Handpan auszuleihen\, die aktuellen Preise bitte der Webseite von Sound Sculpture entnehmen -http://www.sound-sculpture.de Die Kursgebühr beträgt 75\,-€  Der Kurs bietet eine entspannte Möglichkeit das Spiel von Handpans zu testen\, die ersten Grundlagen kennenzulernen und diese zu Hause auszuprobieren. Mehr Infos direkt per E-Mail an: percussionreich@aol.com oder über das Kontaktformular. Wenn ihr Fragen zum Kurs habt\, oder auch zu den Details für die Leihe einer Pan\, medet euch gerne bei mir.
URL:https://handpanundmeer.de/event/handpankurs-fuer-einssteigerinnen-in-giessen
CATEGORIES:Workshop
END:VEVENT
BEGIN:VEVENT
DTSTART;TZID=UTC:20260521T080000
DTEND;TZID=UTC:20260521T170000
DTSTAMP:20260423T193954
CREATED:20251019T091107Z
LAST-MODIFIED:20251019T091107Z
UID:1143-1779350400-1779382800@handpanundmeer.de
SUMMARY:Aufbau-Kurs Handpan in Gießen
DESCRIPTION:An 3 Terminen ( 21. Mai / 11. Juni / 25. Juni ) jeweils Donnerstags von 19:00 Uhr bis 21:00 Uhr gebe ich einen Aufbau-Kurs in Gießen. Thematisch befassen wir uns mit verschiedenen Aspekten des Handpanspiels: jede Menge spieltechnischer Ideen\, spannende Grooves und inspirierende Melodien stehen im Fokus des Kurses\, zudem macht es jede Menge Spaß mit anderen zusammen zu spielen\, im Kurs entwickeln wir ein kleines Arrangement mit schönen Möglichkeiten etwas Eigenes daraus zu entwickeln. Anmeldung und weitere Infos direkt bei mir.
URL:https://handpanundmeer.de/event/aufbau-kurs-handpan-in-giessen-3
CATEGORIES:Workshop
END:VEVENT
BEGIN:VEVENT
DTSTART;TZID=UTC:20260531T110000
DTEND;TZID=UTC:20260531T140000
DTSTAMP:20260423T193954
CREATED:20251019T092354Z
LAST-MODIFIED:20260326T154748Z
UID:1149-1780225200-1780236000@handpanundmeer.de
SUMMARY:Handpanworkshop für Einsteiger::innen in Marburg
DESCRIPTION:Am Sonntag den 31. Mai  von 11:00-14:00 Uhr biete ich einen Handpan-Workshop in Marburg an. Der Workshop ist perfekt geeignet um einen schönen Einstieg in die faszinierende Handpanwelt zu bekommen; Instrumente werden gestellt; Kosten: 65\,-€  Location: Yoga Balance in der Schwanallee 31 in 35037 Marburg.  Info/Anmeldung über das Kontaktformular oder per Mail: percussionreich@aol.com
URL:https://handpanundmeer.de/event/handpanworkshop-fuer-einsteigerinnen-in-marburg-6
CATEGORIES:Workshop
END:VEVENT
BEGIN:VEVENT
DTSTART;TZID=UTC:20260531T143000
DTEND;TZID=UTC:20260531T170000
DTSTAMP:20260423T193954
CREATED:20251019T092856Z
LAST-MODIFIED:20251019T092856Z
UID:1151-1780237800-1780246800@handpanundmeer.de
SUMMARY:Handpanworkshop Aufbau in Marburg
DESCRIPTION:Am Sonntag den 31. Mai  von 14:30 Uhr bis 17:00 Uhr biete ich einen Handpan-Workshop Aufbau in Marburg an. Der Workshop richtet sich an diejenigen die schon erste Vorerfahrungen haben und ihre Spielfähigkeiten vertiefen möchten\, ihr könnt mir gerne vorab thematische Ideen mitteilen\, darauf gehe ich gerne ein. Neben spieltechnischen Ideen\, stehen Grooves aus Weltmusik und Pop sowie jede Menge Ideen für Melodien\, Impro und kleine Arrangements im Fokus des Workshops. Kosten: 65\,-€  Location: Yoga Balance in der Schwanallee 31 in 35037 Marburg.  Info/Anmeldung über das Kontaktformular oder per Mail: percussionreich@aol.com
URL:https://handpanundmeer.de/event/handpanworkshop-aufbau-in-marburg
CATEGORIES:Workshop
END:VEVENT
END:VCALENDAR