BEGIN:VCALENDAR
VERSION:2.0
PRODID:-//Handpanundmeer - ECPv6.15.11//NONSGML v1.0//EN
CALSCALE:GREGORIAN
METHOD:PUBLISH
X-WR-CALNAME:Handpanundmeer
X-ORIGINAL-URL:https://handpanundmeer.de
X-WR-CALDESC:Veranstaltungen für Handpanundmeer
REFRESH-INTERVAL;VALUE=DURATION:PT1H
X-Robots-Tag:noindex
X-PUBLISHED-TTL:PT1H
BEGIN:VTIMEZONE
TZID:UTC
BEGIN:STANDARD
TZOFFSETFROM:+0000
TZOFFSETTO:+0000
TZNAME:UTC
DTSTART:20250101T000000
END:STANDARD
END:VTIMEZONE
BEGIN:VEVENT
DTSTART;TZID=UTC:20260926T140000
DTEND;TZID=UTC:20260926T170000
DTSTAMP:20260425T153319
CREATED:20260222T185631Z
LAST-MODIFIED:20260222T185631Z
UID:1198-1790431200-1790442000@handpanundmeer.de
SUMMARY:Handpanworkshop für Einsteiger:innen in Marburg
DESCRIPTION:Am Samstag den 26. September von 14:00-17:00 Uhr biete ich einen Handpan-Workshop in Marburg an. Der Workshop ist perfekt geeignet um einen schönen Einstieg in die faszinierende Handpanwelt zu bekommen; Instrumente werden gestellt; Kosten: 65\,-€  Location: Yoga Balance in der Schwanallee 31 in 35037 Marburg.  Info/Anmeldung über das Kontaktformular oder per Mail: percussionreich@aol.com
URL:https://handpanundmeer.de/event/handpanworkshop-fuer-einsteigerinnen-in-marburg-8
CATEGORIES:Workshop
END:VEVENT
BEGIN:VEVENT
DTSTART;TZID=UTC:20260926T173000
DTEND;TZID=UTC:20260926T200000
DTSTAMP:20260425T153319
CREATED:20260222T190020Z
LAST-MODIFIED:20260222T190020Z
UID:1200-1790443800-1790452800@handpanundmeer.de
SUMMARY:Handpanworkshop Aufbau in Marburg
DESCRIPTION:Am Samstag den 26. September  von 17:30 Uhr bis 20:00 Uhr biete ich einen Handpan-Workshop Aufbau in Marburg an. Der Workshop richtet sich an diejenigen die schon erste Vorerfahrungen haben und ihre Spielfähigkeiten vertiefen möchten\, ihr könnt mir gerne vorab thematische Ideen mitteilen\, darauf gehe ich gerne ein. Neben spieltechnischen Ideen\, stehen Grooves aus Weltmusik und Pop sowie jede Menge Ideen für Melodien\, Impro und kleine Arrangements im Fokus des Workshops. Kosten: 65\,-€  Location: Yoga Balance in der Schwanallee 31 in 35037 Marburg.  Info/Anmeldung über das Kontaktformular oder per Mail: percussionreich@aol.com
URL:https://handpanundmeer.de/event/handpanworkshop-aufbau-in-marburg-3
CATEGORIES:Workshop
END:VEVENT
END:VCALENDAR