BEGIN:VCALENDAR
VERSION:2.0
PRODID:-//Handpanundmeer - ECPv6.15.11//NONSGML v1.0//EN
CALSCALE:GREGORIAN
METHOD:PUBLISH
X-WR-CALNAME:Handpanundmeer
X-ORIGINAL-URL:https://handpanundmeer.de
X-WR-CALDESC:Veranstaltungen für Handpanundmeer
REFRESH-INTERVAL;VALUE=DURATION:PT1H
X-Robots-Tag:noindex
X-PUBLISHED-TTL:PT1H
BEGIN:VTIMEZONE
TZID:UTC
BEGIN:STANDARD
TZOFFSETFROM:+0000
TZOFFSETTO:+0000
TZNAME:UTC
DTSTART:20250101T000000
END:STANDARD
END:VTIMEZONE
BEGIN:VEVENT
DTSTART;TZID=UTC:20260919T140000
DTEND;TZID=UTC:20260919T163000
DTSTAMP:20260425T153204
CREATED:20260223T151024Z
LAST-MODIFIED:20260223T151455Z
UID:1208-1789826400-1789835400@handpanundmeer.de
SUMMARY:Handpanworkshop für Einsteiger::innen in Neu-Isenburg
DESCRIPTION:Am Samstag den 19.September von 14:00 Uhr bis 16:30 Uhr biete ich einen Handpanworkshop für Einsteiger::innen an.  Location ist das Capriol-Tanzatelier in der Carl-Ulrich-Str. 177 in 63263 Neu-Isenburg. Kosten: 65\,-€ Der Workshop bietet einen schönen Einstig in die faszinierende Handpanwelt. Instrumente werden gestellt. Thematisch beschäftigen wir uns mit den ersten Spieltechniken und grundlegenden Ideen und Konzepten des Spiels der Handpan\, darüber hinaus erfahrt ihr viel Wissenswertes zum Thema und bekommt jede Menge Tipps auf was ihr z. Bsp. bei einem etwaigen Kauf einer Handpan achten könnt. Der Kurs ist auch für diejenigen geeignet\, die keine Vorerfahrungen haben\, wir werden viel Spaß haben und können in einer entspannten Atmosphäre zusammen Musik machen. Info / Anmeldung: über das Kontaktformular oder direkt per Mail an: percussionreich@aol.com
URL:https://handpanundmeer.de/event/handpanworkshop-fuer-einsteigerinnen-in-neu-isenburg-6
CATEGORIES:Workshop
END:VEVENT
BEGIN:VEVENT
DTSTART;TZID=UTC:20260919T170000
DTEND;TZID=UTC:20260919T193000
DTSTAMP:20260425T153204
CREATED:20260223T150509Z
LAST-MODIFIED:20260223T151553Z
UID:1204-1789837200-1789846200@handpanundmeer.de
SUMMARY:Handpanworkshop Aufbau in Neu-Isenburg
DESCRIPTION:Am Samstag den 19. September von 17:00 Uhr bis 19:30 Uhr biete ich einen Handpanworkshop Aufbau an.  Location ist das Capriol-Tanzatelier in der Carl-Ulrich-Str. 177 in 63263 Neu-Isenburg. Kosten: 65\,-€  Der Workshop richtet sich an Spieler::innen die erste Basice spielen können und Spieltechniken erweitern möchten\, es werden kleine Stücke eingeübt mit jeder Menge Anregungen für Grooves\, Melodien\, Improvisation\, Zusammenspiel\, Unabhängigkeit und Harmonien. Ihr bekommt im Nachgang alle Übungen als anschauliche Videos auf Wusch per Messenger zugesendet. Ich spiele seit vielen Jahren Handpan und gebe euch jede Menge Tipps geben wie ihr noch mehr Spaß am Klangufo haben könnt.   Info / Anmeldung: über das Kontaktformular oder direkt per Mail an: percussionreich@aol.com
URL:https://handpanundmeer.de/event/handpanworkshop-aufbau-in-neu-isenburg-3
CATEGORIES:Workshop
END:VEVENT
END:VCALENDAR